BEGIN:VCALENDAR
VERSION:2.0
PRODID:-//constitutionaldemocracyproject.org//NONSGML kigkonsult.se iCalcre
 ator 2.30.10//
CALSCALE:GREGORIAN
METHOD:PUBLISH
UID:94d2b799-296c-4c90-b202-5ef521a71ab6
X-WR-CALDESC:This workshop is designed  to showcase a collection of LGBTQ-i
 nclusive lessons created by teachers that meet the requirements of the Ill
 inois Inclusive Curriculum law. The workshop will provide practical strate
 gies for implementing LGBTQ-inclusive curriculum in middle and high school
  classrooms. Discussions will focus on how best to incorporate this conten
 t into what is already being taught.\n\nThis workshop is FREE. Lessons wil
 l be provided to participants. Lunch is included.
X-WR-RELCALID:67840f915c63a6e199b78d7e17fdaa29
X-WR-TIMEZONE:America/Chicago
BEGIN:VTIMEZONE
TZID:America/Chicago
BEGIN:STANDARD
TZNAME:CST
DTSTART:20221106T020000
TZOFFSETFROM:-0500
TZOFFSETTO:-0600
RDATE:20231105T020000
RDATE:20241103T020000
END:STANDARD
BEGIN:DAYLIGHT
TZNAME:CDT
DTSTART:20230312T020000
TZOFFSETFROM:-0600
TZOFFSETTO:-0500
RDATE:20240310T020000
END:DAYLIGHT
END:VTIMEZONE
BEGIN:VEVENT
UID:94d4deb0-b32f-41a8-bc75-a63ac3cae99b
DTSTAMP:20260422T090802Z
DESCRIPTION:This workshop is designed  to showcase a collection of LGBTQ-in
 clusive lessons created by teachers that meet the requirements of the Illi
 nois Inclusive Curriculum law. The workshop will provide practical strateg
 ies for implementing LGBTQ-inclusive curriculum in middle and high school 
 classrooms. Discussions will focus on how best to incorporate this content
  into what is already being taught.\n\nThis workshop is FREE. Lessons will
  be provided to participants. Lunch is included.
DTSTART;TZID=America/Chicago:20230804T090000
DTEND;TZID=America/Chicago:20230804T140000
LOCATION:Conviser Law Center - Chicago-Kent College of Law\, 565 W. Adams S
 treet\, Chicago\, IL 60661 US
SUMMARY:Unveiling the Power of the Illinois Inclusive Curriculum Law: LGBTQ
  Lessons Showcase
END:VEVENT
END:VCALENDAR
