BEGIN:VCALENDAR
VERSION:2.0
PRODID:-//constitutionaldemocracyproject.org//NONSGML kigkonsult.se iCalcre
 ator 2.30.10//
CALSCALE:GREGORIAN
METHOD:PUBLISH
UID:7568047f-61ec-4d29-a157-73c3763bad8f
X-WR-CALDESC:This two and a half day professional development session will 
 acquaint high school teachers with US Supreme Court cases from the current
  term ranging from guns\, God\, and abortion and will feature former law c
 lerks discussing a range of topics from the shadow docket to Supreme Court
  reform.  There is a $25 registration fee that covers materials and lunch 
 each day. A link for payment will be sent to each participation after regi
 stration.\n\nJuly 19-20 (9:00 am - 2:00 pm)\nJuly 21 (9:00 am - noon)\n\nC
 PDU Credit Available\n
X-WR-RELCALID:128cc561f3a588eb4a97ac75515f6f49
X-WR-TIMEZONE:America/Chicago
BEGIN:VTIMEZONE
TZID:America/Chicago
BEGIN:STANDARD
TZNAME:CST
DTSTART:20211107T020000
TZOFFSETFROM:-0500
TZOFFSETTO:-0600
RDATE:20221106T020000
RDATE:20231105T020000
END:STANDARD
BEGIN:DAYLIGHT
TZNAME:CDT
DTSTART:20220313T020000
TZOFFSETFROM:-0600
TZOFFSETTO:-0500
RDATE:20230312T020000
END:DAYLIGHT
END:VTIMEZONE
BEGIN:VEVENT
UID:997eca7d-da13-4a33-b67b-c88070859259
DTSTAMP:20260421T225706Z
DESCRIPTION:This two and a half day professional development session will a
 cquaint high school teachers with US Supreme Court cases from the current 
 term ranging from guns\, God\, and abortion and will feature former law cl
 erks discussing a range of topics from the shadow docket to Supreme Court 
 reform.  There is a $25 registration fee that covers materials and lunch e
 ach day. A link for payment will be sent to each participation after regis
 tration.\n\nJuly 19-20 (9:00 am - 2:00 pm)\nJuly 21 (9:00 am - noon)\n\nCP
 DU Credit Available\n
DTSTART;TZID=America/Chicago:20220719T090000
DTEND;TZID=America/Chicago:20220721T140000
LOCATION:Conviser Law Center\, 565 W. Adams Street\, Chicago\, IL 60661 US
SUMMARY:2022 U.S. Supreme Court Summer Institute
END:VEVENT
END:VCALENDAR
